BEGIN:VCALENDAR
VERSION:2.0
PRODID:-//Better Said Than Done - ECPv6.15.20//NONSGML v1.0//EN
CALSCALE:GREGORIAN
METHOD:PUBLISH
X-WR-CALNAME:Better Said Than Done
X-ORIGINAL-URL:https://bettersaidthandone.org
X-WR-CALDESC:Events for Better Said Than Done
REFRESH-INTERVAL;VALUE=DURATION:PT1H
X-Robots-Tag:noindex
X-PUBLISHED-TTL:PT1H
BEGIN:VTIMEZONE
TZID:America/New_York
BEGIN:DAYLIGHT
TZOFFSETFROM:-0500
TZOFFSETTO:-0400
TZNAME:EDT
DTSTART:20250309T070000
END:DAYLIGHT
BEGIN:STANDARD
TZOFFSETFROM:-0400
TZOFFSETTO:-0500
TZNAME:EST
DTSTART:20251102T060000
END:STANDARD
BEGIN:DAYLIGHT
TZOFFSETFROM:-0500
TZOFFSETTO:-0400
TZNAME:EDT
DTSTART:20260308T070000
END:DAYLIGHT
BEGIN:STANDARD
TZOFFSETFROM:-0400
TZOFFSETTO:-0500
TZNAME:EST
DTSTART:20261101T060000
END:STANDARD
BEGIN:DAYLIGHT
TZOFFSETFROM:-0500
TZOFFSETTO:-0400
TZNAME:EDT
DTSTART:20270314T070000
END:DAYLIGHT
BEGIN:STANDARD
TZOFFSETFROM:-0400
TZOFFSETTO:-0500
TZNAME:EST
DTSTART:20271107T060000
END:STANDARD
END:VTIMEZONE
BEGIN:VEVENT
DTSTART;TZID=America/New_York:20260408T230000
DTEND;TZID=America/New_York:20260408T233000
DTSTAMP:20260423T175523
CREATED:20260325T202224Z
LAST-MODIFIED:20260325T202224Z
UID:20126-1775689200-1775691000@bettersaidthandone.org
SUMMARY:Recordings of the 2026 Women's Storytelling Festival
DESCRIPTION:Live performances of the 2026 Women’s Storytelling Festival have concluded\, but you can purchase $42 tickets\, through April 8th\, to watch all 16 plus hours of recordings. The videos are available to watch through April 28th. \nThe Women’s Storytelling Festival Main Page\nThe WSF Tickets Page\nThe Women’s Storytelling Festival\, produced annually in March by Better Said Than Done\, is a festival celebrating all women and gender nonconforming spoken-word performing artists. The festival debuted in March 2020 in Fairfax City\, VA. \nTHESE VOICES MATTER \nFor centuries\, the American story has centered on generals\, presidents\, and political power. Greatness has often been defined by conquest\, legislation\, and battlefield victories. \nBut history also unfolds in hospitals\, classrooms\, churches\, communities\, and factories. Mothers give birth to every generation yet rarely hold ownership over how that generation’s history is told. When women tell history\, something shifts.We see greatness:\nNot only in victory but in resilience.\nNot only in power but in empathy.\nNot only in dominance but in survival. \nEach story is written\, refined\, memorized\, and performed live. \nNo scripts. No staged readings. No fourth wall. Just a direct connection between teller and listener. \nThe Women’s Storytelling Festival is intended for a mature audience. \nThe 2026 Women’s Storytelling Festival storytellers are:\nKarin Amano\, Lona Bartlett\, Meghna Bhat\, Lyn Ford\, Neshama Franklin\, Bonnie Gardner\, Natalie Jones\, Jenn Kamara\, Nina Lesiga\, Jezrie Marcano-Courtney\, Jamie McElhatton\, Jennifer Munro\, Denise Page\, Liz Pardue\, Elisa Pearmain\, Kristin Pedemonti\, Regina Stoops\, Liz Weir\, Megan Wells\, and Hope Wilder. \nEmcees for the festival include: Elizabeth Ellis\, Bree Fram\, Sherry Grimes\, Carol Moore\, Miriam Nadel\, Mayor Catherine Reade\, Delegate Holly Seibold and 1A host Jenn White.
URL:https://bettersaidthandone.org/event/recordings-of-the-2026-womens-storytelling-festival/
CATEGORIES:Women's Storytelling Festival
ATTACH;FMTTYPE=image/jpeg:https://bettersaidthandone.org/wp-content/uploads/2026/03/2026-WSF-SqvRecordings.jpg
END:VEVENT
END:VCALENDAR