BEGIN:VCALENDAR
VERSION:2.0
PRODID:-//Better Said Than Done - ECPv6.15.20//NONSGML v1.0//EN
CALSCALE:GREGORIAN
METHOD:PUBLISH
X-WR-CALNAME:Better Said Than Done
X-ORIGINAL-URL:https://bettersaidthandone.org
X-WR-CALDESC:Events for Better Said Than Done
REFRESH-INTERVAL;VALUE=DURATION:PT1H
X-Robots-Tag:noindex
X-PUBLISHED-TTL:PT1H
BEGIN:VTIMEZONE
TZID:America/New_York
BEGIN:DAYLIGHT
TZOFFSETFROM:-0500
TZOFFSETTO:-0400
TZNAME:EDT
DTSTART:20240310T070000
END:DAYLIGHT
BEGIN:STANDARD
TZOFFSETFROM:-0400
TZOFFSETTO:-0500
TZNAME:EST
DTSTART:20241103T060000
END:STANDARD
BEGIN:DAYLIGHT
TZOFFSETFROM:-0500
TZOFFSETTO:-0400
TZNAME:EDT
DTSTART:20250309T070000
END:DAYLIGHT
BEGIN:STANDARD
TZOFFSETFROM:-0400
TZOFFSETTO:-0500
TZNAME:EST
DTSTART:20251102T060000
END:STANDARD
BEGIN:DAYLIGHT
TZOFFSETFROM:-0500
TZOFFSETTO:-0400
TZNAME:EDT
DTSTART:20260308T070000
END:DAYLIGHT
BEGIN:STANDARD
TZOFFSETFROM:-0400
TZOFFSETTO:-0500
TZNAME:EST
DTSTART:20261101T060000
END:STANDARD
END:VTIMEZONE
BEGIN:VEVENT
DTSTART;TZID=America/New_York:20251004T180000
DTEND;TZID=America/New_York:20251004T200000
DTSTAMP:20260424T052238
CREATED:20250902T190604Z
LAST-MODIFIED:20250924T120542Z
UID:2639-1759600800-1759608000@bettersaidthandone.org
SUMMARY:Apple Pie Stories
DESCRIPTION:Join Better Said Than Done Storytelling on October 4th\, at 6:00pm\, at Clare and Don’s Beach Shack in Falls Church\, VA\, for “Apple Pie Stories\,” with emcee Jack Scheer and storytellers Nick Baskerville\, Catherine Calvin\, Jennifer Hine\, Jenn Kamara\, Rishi Nixon\, and Jessica Robinson. \nWe are thrilled to partner with ArtsFairfax for artoberVA\, the inaugural month-long celebration of Fairfax arts! To celebrate\, we are offering a BOGO ticket discount. Buy one ticket at the regular price\, and get $5 off the second ticket. \nOnline registration for this event is closed \nClare and Don’s Beach Shack is located at 130 N Washington St\, Falls Church\, VA 22046. A full dinner and bar menu is available for purchase before and during the show. There is plenty of free parking nearby\, including a parking garage behind Clare and Don’s. \nYou do not need to print your receipt. Once you register\, your name will be on the list at the door. Please note\, there is no reserve seating\, so if you have a large party\, please arrive early. \n \n“Fall into the arts” this October with artoberVA\, ArtsFairfax’s celebration of the arts in Fairfax\nwith exclusive events and offers all month long!
URL:https://bettersaidthandone.org/event/apple-pie-stories/
LOCATION:Clare and Don’s Beach Shack\, 130 North Washington Street\, Falls Church\, VA\, 22046\, United States
CATEGORIES:Storytelling Show
ATTACH;FMTTYPE=image/jpeg:https://bettersaidthandone.org/wp-content/uploads/2025/09/10_04_IG.jpg
END:VEVENT
END:VCALENDAR