BEGIN:VCALENDAR
VERSION:2.0
PRODID:-//Better Said Than Done - ECPv6.15.20//NONSGML v1.0//EN
CALSCALE:GREGORIAN
METHOD:PUBLISH
X-WR-CALNAME:Better Said Than Done
X-ORIGINAL-URL:https://bettersaidthandone.org
X-WR-CALDESC:Events for Better Said Than Done
REFRESH-INTERVAL;VALUE=DURATION:PT1H
X-Robots-Tag:noindex
X-PUBLISHED-TTL:PT1H
BEGIN:VTIMEZONE
TZID:America/New_York
BEGIN:DAYLIGHT
TZOFFSETFROM:-0500
TZOFFSETTO:-0400
TZNAME:EDT
DTSTART:20240310T070000
END:DAYLIGHT
BEGIN:STANDARD
TZOFFSETFROM:-0400
TZOFFSETTO:-0500
TZNAME:EST
DTSTART:20241103T060000
END:STANDARD
BEGIN:DAYLIGHT
TZOFFSETFROM:-0500
TZOFFSETTO:-0400
TZNAME:EDT
DTSTART:20250309T070000
END:DAYLIGHT
BEGIN:STANDARD
TZOFFSETFROM:-0400
TZOFFSETTO:-0500
TZNAME:EST
DTSTART:20251102T060000
END:STANDARD
BEGIN:DAYLIGHT
TZOFFSETFROM:-0500
TZOFFSETTO:-0400
TZNAME:EDT
DTSTART:20260308T070000
END:DAYLIGHT
BEGIN:STANDARD
TZOFFSETFROM:-0400
TZOFFSETTO:-0500
TZNAME:EST
DTSTART:20261101T060000
END:STANDARD
END:VTIMEZONE
BEGIN:VEVENT
DTSTART;TZID=America/New_York:20251024T180000
DTEND;TZID=America/New_York:20251024T200000
DTSTAMP:20260424T102002
CREATED:20250924T171450Z
LAST-MODIFIED:20250924T171515Z
UID:18969-1761328800-1761336000@bettersaidthandone.org
SUMMARY:Halloween Stories in the Park
DESCRIPTION:Join Better Said Than Done storytellers Jennifer Hine and Jessica Robinson for stories along the Trick or Treat Trail\, at Halloween in the Park\, at Franklin Park\, in Loudoun County\, VA. \n\nIn addition to storytelling\, there will be pumpkin decorating\, trick-or-treating\, games\, face painting\, live animals\, inflatables\, vendors and more! All for free.
URL:https://bettersaidthandone.org/event/halloween-stories-in-the-park/
LOCATION:Franklin Park\, 36441 Blueridge View Ln.\, Purcelville\, VA\, 20132
CATEGORIES:Family Friendly Storytelling
ATTACH;FMTTYPE=image/jpeg:https://bettersaidthandone.org/wp-content/uploads/2025/09/10_24_IG.jpg
END:VEVENT
BEGIN:VEVENT
DTSTART;TZID=America/New_York:20251030T180000
DTEND;TZID=America/New_York:20251030T200000
DTSTAMP:20260424T102002
CREATED:20250820T205411Z
LAST-MODIFIED:20251021T145350Z
UID:2598-1761847200-1761854400@bettersaidthandone.org
SUMMARY:Storytelling Workshop Purcelville
DESCRIPTION:We’re gonna get a little scary at this next storytelling workshop at Franklin Park Arts Center. I mean\, it’s October 30th. We can’t just ignore the ghost in the room. \nWhether you want to work on crafting a personal story\, or a scary story\, this workshop will work for you. Bring ideas for a 5-7 minute story to work on in this 90-minute class. Learn about character development\, story structure\, and where to begin and how to end\, and then spend some time writing. A few participants will be able to share their stories with the class and help prepare you for Franklin Park Arts Center’s Storytelling Open Mic nights\, beginning in November. \nInstructor: Jessica Robinson\, of Better Said Than Done \nDetails and $20 registration here. \nFranklin Park Arts Center\n36441 Blueridge View Lane\nPurcellville\, VA 20132\n540-338-7973 (Box Office) \nLoudoun County\, VA \nAnd sign up for the Open Mic Story Swap at Franklin Park Arts Center on November 20\, at 6:00pm.\n$5 Registration here
URL:https://bettersaidthandone.org/event/storytelling-workshop-purcelville/
LOCATION:VA
CATEGORIES:Workshops
ATTACH;FMTTYPE=image/jpeg:https://bettersaidthandone.org/wp-content/uploads/2025/08/10_FranklinPark_Workshop.jpg
END:VEVENT
END:VCALENDAR