BEGIN:VCALENDAR
VERSION:2.0
PRODID:-//Better Said Than Done - ECPv6.15.20//NONSGML v1.0//EN
CALSCALE:GREGORIAN
METHOD:PUBLISH
X-WR-CALNAME:Better Said Than Done
X-ORIGINAL-URL:https://bettersaidthandone.org
X-WR-CALDESC:Events for Better Said Than Done
REFRESH-INTERVAL;VALUE=DURATION:PT1H
X-Robots-Tag:noindex
X-PUBLISHED-TTL:PT1H
BEGIN:VTIMEZONE
TZID:America/New_York
BEGIN:DAYLIGHT
TZOFFSETFROM:-0500
TZOFFSETTO:-0400
TZNAME:EDT
DTSTART:20240310T070000
END:DAYLIGHT
BEGIN:STANDARD
TZOFFSETFROM:-0400
TZOFFSETTO:-0500
TZNAME:EST
DTSTART:20241103T060000
END:STANDARD
BEGIN:DAYLIGHT
TZOFFSETFROM:-0500
TZOFFSETTO:-0400
TZNAME:EDT
DTSTART:20250309T070000
END:DAYLIGHT
BEGIN:STANDARD
TZOFFSETFROM:-0400
TZOFFSETTO:-0500
TZNAME:EST
DTSTART:20251102T060000
END:STANDARD
BEGIN:DAYLIGHT
TZOFFSETFROM:-0500
TZOFFSETTO:-0400
TZNAME:EDT
DTSTART:20260308T070000
END:DAYLIGHT
BEGIN:STANDARD
TZOFFSETFROM:-0400
TZOFFSETTO:-0500
TZNAME:EST
DTSTART:20261101T060000
END:STANDARD
END:VTIMEZONE
BEGIN:VEVENT
DTSTART;TZID=America/New_York:20250628T190000
DTEND;TZID=America/New_York:20250628T210000
DTSTAMP:20260425T085648
CREATED:20250514T161758Z
LAST-MODIFIED:20250603T202847Z
UID:2379-1751137200-1751144400@bettersaidthandone.org
SUMMARY:Love is Love Storytelling
DESCRIPTION:Join Better Said Than Done storytelling on June 28th at Clare and Don’s Beach Shack for Love is Love: stories honoring all love\, with emcee Jack Scheer and storytellers Phill Branch\, Jamie McElhatton\, Rajesh Mirchandani\, Joe Morice\, Vijai Nathan\, Ravi Pimplaskar\, and Ashlen Renner! \nLove is Love is at Clare and Don’s on June 28\, 2025\, at 7:00pm. Doors open 6:30pm. \nClare and Don’s Beach Shack is located at 130 N Washington St\, Falls Church\, VA 22046. A full dinner and bar menu is available for purchase before and during the show. There is plenty of free parking nearby\, including a parking garage behind Clare and Don’s. \nOnline registration for this event is closed \nYou do not need to print your receipt. Once you register\, your name will be on the list at the door. Please note\, there is no reserve seating\, so if you have a large party\, please arrive early.
URL:https://bettersaidthandone.org/event/love-is-love-storytelling/
CATEGORIES:Storytelling Show
ATTACH;FMTTYPE=image/jpeg:https://bettersaidthandone.org/wp-content/uploads/2025/05/06_28_IGv21.jpg
END:VEVENT
END:VCALENDAR