BEGIN:VCALENDAR
VERSION:2.0
PRODID:-//Better Said Than Done - ECPv6.15.20//NONSGML v1.0//EN
CALSCALE:GREGORIAN
METHOD:PUBLISH
X-ORIGINAL-URL:https://bettersaidthandone.org
X-WR-CALDESC:Events for Better Said Than Done
REFRESH-INTERVAL;VALUE=DURATION:PT1H
X-Robots-Tag:noindex
X-PUBLISHED-TTL:PT1H
BEGIN:VTIMEZONE
TZID:America/New_York
BEGIN:DAYLIGHT
TZOFFSETFROM:-0500
TZOFFSETTO:-0400
TZNAME:EDT
DTSTART:20240310T070000
END:DAYLIGHT
BEGIN:STANDARD
TZOFFSETFROM:-0400
TZOFFSETTO:-0500
TZNAME:EST
DTSTART:20241103T060000
END:STANDARD
BEGIN:DAYLIGHT
TZOFFSETFROM:-0500
TZOFFSETTO:-0400
TZNAME:EDT
DTSTART:20250309T070000
END:DAYLIGHT
BEGIN:STANDARD
TZOFFSETFROM:-0400
TZOFFSETTO:-0500
TZNAME:EST
DTSTART:20251102T060000
END:STANDARD
BEGIN:DAYLIGHT
TZOFFSETFROM:-0500
TZOFFSETTO:-0400
TZNAME:EDT
DTSTART:20260308T070000
END:DAYLIGHT
BEGIN:STANDARD
TZOFFSETFROM:-0400
TZOFFSETTO:-0500
TZNAME:EST
DTSTART:20261101T060000
END:STANDARD
END:VTIMEZONE
BEGIN:VEVENT
DTSTART;TZID=America/New_York:20250515T200000
DTEND;TZID=America/New_York:20250515T213000
DTSTAMP:20260425T071448
CREATED:20250410T122634Z
LAST-MODIFIED:20250516T132507Z
UID:2335-1747339200-1747344600@bettersaidthandone.org
SUMMARY:Rise and Shine Storytelling Show Online
DESCRIPTION:This show was a delight. If you missed it live\, you can still register to watch the recording of Rise and Shine\, with emcee Jessica Robinson and storytellers Walt Belcher\, Alton Chung\, Lyn Ford\, Chetter Galloway\, Howard Lieberman\, and Linda Schuyler Ford! \n$15 Suggested/$5 Minimum\nAll Proceeds Split Between Producer and Storytellers \nIf you miss it live on Zoom\, you can watch the recording on Youtube. \n\n			\n				\n				\n				\n				\n				\n					\n						\n						\n					\n					\n					Register\n						\n						100 tickets remaining. \n						Suggested ContributionAdd oneRemove one$15.00Minimum Contribution / Tip JarAdd oneRemove one$5.00Household ContributionAdd oneRemove one$28.00Generous ContributionAdd oneRemove one$39.00\n						\n						Add to Cart\n						\n						 \n					\n				\n			\nYou will receive a link to watch the show moments after registering. If you do NOT see that email\, first check your junk mail folder. If you still cannot find it\, contact stories@bettersaidthandone.org BEFORE the show starts. \nAs people can watch the recording for up to one month after\, ticket sales close on May 17th. Your receipt reflects the date ticket sales close. The link to watch the show has the date and time of the show on it.
URL:https://bettersaidthandone.org/event/rise-and-shine-storytelling-show-online/
CATEGORIES:Storytelling Show,Virtual Event
ATTACH;FMTTYPE=image/jpeg:https://bettersaidthandone.org/wp-content/uploads/2025/04/05_15_25_IG.jpg
END:VEVENT
END:VCALENDAR