BEGIN:VCALENDAR
VERSION:2.0
PRODID:-//Better Said Than Done - ECPv6.15.20//NONSGML v1.0//EN
CALSCALE:GREGORIAN
METHOD:PUBLISH
X-WR-CALNAME:Better Said Than Done
X-ORIGINAL-URL:https://bettersaidthandone.org
X-WR-CALDESC:Events for Better Said Than Done
REFRESH-INTERVAL;VALUE=DURATION:PT1H
X-Robots-Tag:noindex
X-PUBLISHED-TTL:PT1H
BEGIN:VTIMEZONE
TZID:America/New_York
BEGIN:DAYLIGHT
TZOFFSETFROM:-0500
TZOFFSETTO:-0400
TZNAME:EDT
DTSTART:20240310T070000
END:DAYLIGHT
BEGIN:STANDARD
TZOFFSETFROM:-0400
TZOFFSETTO:-0500
TZNAME:EST
DTSTART:20241103T060000
END:STANDARD
BEGIN:DAYLIGHT
TZOFFSETFROM:-0500
TZOFFSETTO:-0400
TZNAME:EDT
DTSTART:20250309T070000
END:DAYLIGHT
BEGIN:STANDARD
TZOFFSETFROM:-0400
TZOFFSETTO:-0500
TZNAME:EST
DTSTART:20251102T060000
END:STANDARD
BEGIN:DAYLIGHT
TZOFFSETFROM:-0500
TZOFFSETTO:-0400
TZNAME:EDT
DTSTART:20260308T070000
END:DAYLIGHT
BEGIN:STANDARD
TZOFFSETFROM:-0400
TZOFFSETTO:-0500
TZNAME:EST
DTSTART:20261101T060000
END:STANDARD
END:VTIMEZONE
BEGIN:VEVENT
DTSTART;TZID=America/New_York:20250426T140000
DTEND;TZID=America/New_York:20250426T153000
DTSTAMP:20260425T103644
CREATED:20250318T141336Z
LAST-MODIFIED:20250421T171953Z
UID:2133-1745676000-1745681400@bettersaidthandone.org
SUMMARY:Free Storytelling Workshop in Burke\, VA
DESCRIPTION:Your Personal Brand Storytelling Workshop\n\nLearn how to craft your own elevator speech and/or interview-ready story using professional storytelling techniques. Attendees will hear tips about storytelling\, branding\, and then have time to work on writing their own story! Session focuses on storytelling techniques with a business focus. Led by Better Said Than Done Executive Director\, Jessica Piscitelli Robinson. \nOpen to Adults\, 18+. Registration is encouraged\, but not required. At Kings Park Library\, Burke\, VA \nDetails Here
URL:https://bettersaidthandone.org/event/free-storytelling-workshop-in-burke-va/
LOCATION:DC
CATEGORIES:Workshops
ATTACH;FMTTYPE=image/jpeg:https://bettersaidthandone.org/wp-content/uploads/2025/03/04_Library_Brand_Workshop.jpg
END:VEVENT
END:VCALENDAR