BEGIN:VCALENDAR
VERSION:2.0
PRODID:-//Better Said Than Done - ECPv6.15.20//NONSGML v1.0//EN
CALSCALE:GREGORIAN
METHOD:PUBLISH
X-ORIGINAL-URL:https://bettersaidthandone.org
X-WR-CALDESC:Events for Better Said Than Done
REFRESH-INTERVAL;VALUE=DURATION:PT1H
X-Robots-Tag:noindex
X-PUBLISHED-TTL:PT1H
BEGIN:VTIMEZONE
TZID:America/New_York
BEGIN:DAYLIGHT
TZOFFSETFROM:-0500
TZOFFSETTO:-0400
TZNAME:EDT
DTSTART:20240310T070000
END:DAYLIGHT
BEGIN:STANDARD
TZOFFSETFROM:-0400
TZOFFSETTO:-0500
TZNAME:EST
DTSTART:20241103T060000
END:STANDARD
BEGIN:DAYLIGHT
TZOFFSETFROM:-0500
TZOFFSETTO:-0400
TZNAME:EDT
DTSTART:20250309T070000
END:DAYLIGHT
BEGIN:STANDARD
TZOFFSETFROM:-0400
TZOFFSETTO:-0500
TZNAME:EST
DTSTART:20251102T060000
END:STANDARD
BEGIN:DAYLIGHT
TZOFFSETFROM:-0500
TZOFFSETTO:-0400
TZNAME:EDT
DTSTART:20260308T070000
END:DAYLIGHT
BEGIN:STANDARD
TZOFFSETFROM:-0400
TZOFFSETTO:-0500
TZNAME:EST
DTSTART:20261101T060000
END:STANDARD
END:VTIMEZONE
BEGIN:VEVENT
DTSTART;TZID=America/New_York:20251022T190000
DTEND;TZID=America/New_York:20251022T200000
DTSTAMP:20260424T101855
CREATED:20250924T152343Z
LAST-MODIFIED:20251013T181713Z
UID:18964-1761159600-1761163200@bettersaidthandone.org
SUMMARY:Scary Stories at the Haunted Library
DESCRIPTION:On October 22\, join storytellers Silvana Clark\, J.R. Denson\, Jessica Robinson\, and Zach Wilks\, for a night of terrifying tales at the Haunted Library. \nLooking for a cozy thrill this Halloween season? Come to the Haunted Library\, if you dare\, for an hour of scary stories told by professional storytelling haints and ghouls\, brought to you by Better Said Than Done. Bring snacks and hot beverages and join us on the First Floor of the MLK Library.\nDetails here. \nThis concert is FREE and open to the public\, but intended for a mature audience. If you watched Poltergeist as a child\, you are likely old enough to enjoy these stories.
URL:https://bettersaidthandone.org/event/scary-stories-at-the-haunted-library/
LOCATION:MLK DC Public Libray\, 901 G St. NW\, Washington\, DC\, 20001\, United States
CATEGORIES:Storytelling Show
ATTACH;FMTTYPE=image/jpeg:https://bettersaidthandone.org/wp-content/uploads/2025/09/10_22_IG-copy.jpg
END:VEVENT
END:VCALENDAR