BEGIN:VCALENDAR
VERSION:2.0
PRODID:-//Better Said Than Done - ECPv6.15.20//NONSGML v1.0//EN
CALSCALE:GREGORIAN
METHOD:PUBLISH
X-ORIGINAL-URL:https://bettersaidthandone.org
X-WR-CALDESC:Events for Better Said Than Done
REFRESH-INTERVAL;VALUE=DURATION:PT1H
X-Robots-Tag:noindex
X-PUBLISHED-TTL:PT1H
BEGIN:VTIMEZONE
TZID:America/New_York
BEGIN:DAYLIGHT
TZOFFSETFROM:-0500
TZOFFSETTO:-0400
TZNAME:EDT
DTSTART:20250309T070000
END:DAYLIGHT
BEGIN:STANDARD
TZOFFSETFROM:-0400
TZOFFSETTO:-0500
TZNAME:EST
DTSTART:20251102T060000
END:STANDARD
BEGIN:DAYLIGHT
TZOFFSETFROM:-0500
TZOFFSETTO:-0400
TZNAME:EDT
DTSTART:20260308T070000
END:DAYLIGHT
BEGIN:STANDARD
TZOFFSETFROM:-0400
TZOFFSETTO:-0500
TZNAME:EST
DTSTART:20261101T060000
END:STANDARD
BEGIN:DAYLIGHT
TZOFFSETFROM:-0500
TZOFFSETTO:-0400
TZNAME:EDT
DTSTART:20270314T070000
END:DAYLIGHT
BEGIN:STANDARD
TZOFFSETFROM:-0400
TZOFFSETTO:-0500
TZNAME:EST
DTSTART:20271107T060000
END:STANDARD
END:VTIMEZONE
BEGIN:VEVENT
DTSTART;TZID=America/New_York:20260216T190000
DTEND;TZID=America/New_York:20260216T210000
DTSTAMP:20260423T202400
CREATED:20260113T150229Z
LAST-MODIFIED:20260212T154545Z
UID:19460-1771268400-1771275600@bettersaidthandone.org
SUMMARY:Braiding Stories Workshop
DESCRIPTION:Register below for: \nBraided Storytelling\nIn this workshop\, we’ll define “braided stories\,” discuss different types of braided tales\, and also when and if it makes sense to intertwine multiple stories. Then we’ll dig into some techniques on how to craft a braided story. Participants will spend some time working and weaving their own tales\, and then will be given the chance to share a story. This workshop will be recorded and all registrants will receive the recording to review after the workshop concludes. \nThis workshop is led by Better Said Than Done Executive Director Jessica Piscitelli Robinson. \nOn February 23\, join us for our next workshop. Register for Fractured Fairytales and Re-imagined Stories workshop here. \nOnline registration for this event is closed \nYou do NOT need a Paypal or Stripe account to register. Simply select which credit card processor you’d like to use when checking out and then you can pay by credit card or other methods via your chosen processing gateway. \nYou should receive the link to login shortly after registering. Check your junk folder if you do NOT see it. \nContact us at stories (at) bettersaidthandone (dot) com if you still do not see the email. \n\n\n\nNo refunds will be issued for cancellations received after registration. In extenuating circumstances\, to be determined solely by Better Said Than Done\, Inc.\, a voucher for attendance at another Better Said Than Done workshop of equal or lesser value may be offered. Additional fees may be required. \nSubstitutions for persons attending can be made in advance without charge. In the event of circumstances beyond its control\, Better Said Than Done reserves the right to amend or cancel any event. Better Said Than Done is not liable for any expense incurred by participants as a result of cancellation.
URL:https://bettersaidthandone.org/event/braiding-stories-workshop/
CATEGORIES:Workshops
ATTACH;FMTTYPE=image/jpeg:https://bettersaidthandone.org/wp-content/uploads/2026/01/Winter_Workshops-Wk3.jpg
END:VEVENT
BEGIN:VEVENT
DTSTART;TZID=America/New_York:20260223T190000
DTEND;TZID=America/New_York:20260223T210000
DTSTAMP:20260423T202400
CREATED:20260113T151149Z
LAST-MODIFIED:20260212T154606Z
UID:19465-1771873200-1771880400@bettersaidthandone.org
SUMMARY:Fractured and Re-imagined Story Craft
DESCRIPTION:Register below for: \nFractured and Re-imagined Stories\nThink outside the story box. In this interactive workshop\, participants will take a fairytale they know well and turn it on it’s head\, take a well-known story and make it their own. In Fractured and Re-imagined\, students will learn how to change\, fracture and imagine a fresh take on a classic tale. This is a broad workshop meant to inspire writers to explore different ideas for story crafting. \nThe workshop will start with a lesson\, followed by time for attendees to write and work on a story\, and end with story sharing. This workshop will be recorded and all registrants will receive the recording to review after the workshop concludes. \nThis workshop is led by Better Said Than Done Executive Director Jessica Piscitelli Robinson. \nOnline registration for this event is closed \nYou do NOT need a Paypal or Stripe account to register. Simply select which credit card processor you’d like to use when checking out and then you can pay by credit card or other methods via your chosen processing gateway. \nYou should receive the link to login shortly after registering. Check your junk folder if you do NOT see it. \nContact us at stories (at) bettersaidthandone (dot) com if you still do not see the email. \n\n\n\nNo refunds will be issued for cancellations received after registration. In extenuating circumstances\, to be determined solely by Better Said Than Done\, Inc.\, a voucher for attendance at another Better Said Than Done workshop of equal or lesser value may be offered. Additional fees may be required. \nSubstitutions for persons attending can be made in advance without charge. In the event of circumstances beyond its control\, Better Said Than Done reserves the right to amend or cancel any event. Better Said Than Done is not liable for any expense incurred by participants as a result of cancellation.
URL:https://bettersaidthandone.org/event/fractured-and-re-imagined-story-craft/
CATEGORIES:Virtual Event,Workshops
ATTACH;FMTTYPE=image/jpeg:https://bettersaidthandone.org/wp-content/uploads/2026/01/Winter_Workshops-Wk4.jpg
END:VEVENT
END:VCALENDAR