BEGIN:VCALENDAR
VERSION:2.0
PRODID:-//Better Said Than Done - ECPv6.15.20//NONSGML v1.0//EN
CALSCALE:GREGORIAN
METHOD:PUBLISH
X-ORIGINAL-URL:https://bettersaidthandone.org
X-WR-CALDESC:Events for Better Said Than Done
REFRESH-INTERVAL;VALUE=DURATION:PT1H
X-Robots-Tag:noindex
X-PUBLISHED-TTL:PT1H
BEGIN:VTIMEZONE
TZID:America/New_York
BEGIN:DAYLIGHT
TZOFFSETFROM:-0500
TZOFFSETTO:-0400
TZNAME:EDT
DTSTART:20250309T070000
END:DAYLIGHT
BEGIN:STANDARD
TZOFFSETFROM:-0400
TZOFFSETTO:-0500
TZNAME:EST
DTSTART:20251102T060000
END:STANDARD
BEGIN:DAYLIGHT
TZOFFSETFROM:-0500
TZOFFSETTO:-0400
TZNAME:EDT
DTSTART:20260308T070000
END:DAYLIGHT
BEGIN:STANDARD
TZOFFSETFROM:-0400
TZOFFSETTO:-0500
TZNAME:EST
DTSTART:20261101T060000
END:STANDARD
BEGIN:DAYLIGHT
TZOFFSETFROM:-0500
TZOFFSETTO:-0400
TZNAME:EDT
DTSTART:20270314T070000
END:DAYLIGHT
BEGIN:STANDARD
TZOFFSETFROM:-0400
TZOFFSETTO:-0500
TZNAME:EST
DTSTART:20271107T060000
END:STANDARD
END:VTIMEZONE
BEGIN:VEVENT
DTSTART;TZID=America/New_York:20260131T180000
DTEND;TZID=America/New_York:20260131T203000
DTSTAMP:20260423T192655
CREATED:20251125T200933Z
LAST-MODIFIED:20260128T192534Z
UID:19249-1769882400-1769891400@bettersaidthandone.org
SUMMARY:Stories about change
DESCRIPTION:On January 31\, join us at Clare and Don’s Beach Shack for “A New Leaf: Stories about change\,” with emcee Jessica Robinson and storytellers Bill Grella\, Jennifer Hine\, Tim Livengood\, Carol Moore\, Joe Morice\, and Zach Wilks. \nClare and Don’s Beach Shack is located at 130 N Washington St\, Falls Church\, VA 22046. A full dinner and bar menu is available for purchase before and during the show. There is plenty of free parking nearby\, including a parking garage behind Clare and Don’s. \nIf you are currently underemployed or just stressing the price\, please take advantage of the 2 tickets for $20. \nOnline registration for this event is closed \nYou do NOT need a Paypal or Stripe account to purchase a ticket. Simply select with credit card processor you’d like to use when checking out and then you can pay by credit card or other methods via your chosen processing gateway. You do not need to print your receipt. Once you register\, your name will be on the list at the door. Please note\, there is no reserve seating\, so if you have a large party\, please arrive early.
URL:https://bettersaidthandone.org/event/stories-about-change/
LOCATION:Clare and Don’s Beach Shack\, 130 North Washington Street\, Falls Church\, VA\, 22046\, United States
CATEGORIES:Storytelling Show
ATTACH;FMTTYPE=image/jpeg:https://bettersaidthandone.org/wp-content/uploads/2025/11/01_31_IG_Storytellers-1.jpg
END:VEVENT
END:VCALENDAR