BEGIN:VCALENDAR
VERSION:2.0
PRODID:-//Better Said Than Done - ECPv6.15.20//NONSGML v1.0//EN
CALSCALE:GREGORIAN
METHOD:PUBLISH
X-ORIGINAL-URL:https://bettersaidthandone.org
X-WR-CALDESC:Events for Better Said Than Done
REFRESH-INTERVAL;VALUE=DURATION:PT1H
X-Robots-Tag:noindex
X-PUBLISHED-TTL:PT1H
BEGIN:VTIMEZONE
TZID:America/New_York
BEGIN:DAYLIGHT
TZOFFSETFROM:-0500
TZOFFSETTO:-0400
TZNAME:EDT
DTSTART:20240310T070000
END:DAYLIGHT
BEGIN:STANDARD
TZOFFSETFROM:-0400
TZOFFSETTO:-0500
TZNAME:EST
DTSTART:20241103T060000
END:STANDARD
BEGIN:DAYLIGHT
TZOFFSETFROM:-0500
TZOFFSETTO:-0400
TZNAME:EDT
DTSTART:20250309T070000
END:DAYLIGHT
BEGIN:STANDARD
TZOFFSETFROM:-0400
TZOFFSETTO:-0500
TZNAME:EST
DTSTART:20251102T060000
END:STANDARD
BEGIN:DAYLIGHT
TZOFFSETFROM:-0500
TZOFFSETTO:-0400
TZNAME:EDT
DTSTART:20260308T070000
END:DAYLIGHT
BEGIN:STANDARD
TZOFFSETFROM:-0400
TZOFFSETTO:-0500
TZNAME:EST
DTSTART:20261101T060000
END:STANDARD
END:VTIMEZONE
BEGIN:VEVENT
DTSTART;TZID=America/New_York:20250826T200000
DTEND;TZID=America/New_York:20250826T213000
DTSTAMP:20260425T090842
CREATED:20250820T201858Z
LAST-MODIFIED:20250820T203249Z
UID:2590-1756238400-1756243800@bettersaidthandone.org
SUMMARY:Six Feet Apart Moving Stories
DESCRIPTION:Better Said Than Done Executive Director\, Jessica Robinson\, is emceeing this special Six Feet Apart Productions’ storytelling show. \nClaire Hennessy and Regina Stoops are bringing the Fringe show they performed at the National Storytelling Network Conference to the Six Feet Apart virtual stage. Each will tell how they decided to make California their home and build a family. Both paths are sometimes difficult\, fraught with chaos and challenges\, but also funny and heartwarming. \nTheir favorite producer and storyteller from the East Coast\, the fabulous Jessica Robinson\, will emcee and host a Q&A afterward. \nRegister here.
URL:https://bettersaidthandone.org/event/six-feet-apart-moving-stories/
CATEGORIES:Storytelling Show,Virtual Event
ATTACH;FMTTYPE=image/jpeg:https://bettersaidthandone.org/wp-content/uploads/2025/08/MovingStories_EVT.jpg
END:VEVENT
END:VCALENDAR