BEGIN:VCALENDAR
VERSION:2.0
PRODID:-//Better Said Than Done - ECPv6.15.20//NONSGML v1.0//EN
CALSCALE:GREGORIAN
METHOD:PUBLISH
X-ORIGINAL-URL:https://bettersaidthandone.org
X-WR-CALDESC:Events for Better Said Than Done
REFRESH-INTERVAL;VALUE=DURATION:PT1H
X-Robots-Tag:noindex
X-PUBLISHED-TTL:PT1H
BEGIN:VTIMEZONE
TZID:America/New_York
BEGIN:DAYLIGHT
TZOFFSETFROM:-0500
TZOFFSETTO:-0400
TZNAME:EDT
DTSTART:20240310T070000
END:DAYLIGHT
BEGIN:STANDARD
TZOFFSETFROM:-0400
TZOFFSETTO:-0500
TZNAME:EST
DTSTART:20241103T060000
END:STANDARD
BEGIN:DAYLIGHT
TZOFFSETFROM:-0500
TZOFFSETTO:-0400
TZNAME:EDT
DTSTART:20250309T070000
END:DAYLIGHT
BEGIN:STANDARD
TZOFFSETFROM:-0400
TZOFFSETTO:-0500
TZNAME:EST
DTSTART:20251102T060000
END:STANDARD
BEGIN:DAYLIGHT
TZOFFSETFROM:-0500
TZOFFSETTO:-0400
TZNAME:EDT
DTSTART:20260308T070000
END:DAYLIGHT
BEGIN:STANDARD
TZOFFSETFROM:-0400
TZOFFSETTO:-0500
TZNAME:EST
DTSTART:20261101T060000
END:STANDARD
END:VTIMEZONE
BEGIN:VEVENT
DTSTART;TZID=America/New_York:20250710T200000
DTEND;TZID=America/New_York:20250710T213000
DTSTAMP:20260425T120248
CREATED:20250619T131208Z
LAST-MODIFIED:20250712T175617Z
UID:2458-1752177600-1752183000@bettersaidthandone.org
SUMMARY:Hot and Spicy Stories
DESCRIPTION:The recording of Hot and Spicy stories is now available. Enjoy watching stories from storytellers Vicki Bryan\, Claire Hennessy\, Jessica Robinson\, Jude Treder-Wolff and Megan Wells! \n$15 Suggested/$5 Minimum\nAll Proceeds Split Between Producer and Storytellers \nOnline registration for this event is closed \nYou will receive a link to watch the show moments after registering. If you do NOT see that email\, first check your junk mail folder. If you still cannot find it\, contact stories@bettersaidthandone.org BEFORE the show starts. \nAs people can watch the recording for up to one month after\, ticket sales close on July 15th. Your receipt reflects the date ticket sales close. The link to watch the show has the date and time of the show on it.
URL:https://bettersaidthandone.org/event/hot-and-spicy-stories/
CATEGORIES:Storytelling Show
ATTACH;FMTTYPE=image/jpeg:https://bettersaidthandone.org/wp-content/uploads/2025/06/07_10_IG.jpg
END:VEVENT
END:VCALENDAR