BEGIN:VCALENDAR
VERSION:2.0
PRODID:-//Better Said Than Done - ECPv6.15.20//NONSGML v1.0//EN
CALSCALE:GREGORIAN
METHOD:PUBLISH
X-WR-CALNAME:Better Said Than Done
X-ORIGINAL-URL:https://bettersaidthandone.org
X-WR-CALDESC:Events for Better Said Than Done
REFRESH-INTERVAL;VALUE=DURATION:PT1H
X-Robots-Tag:noindex
X-PUBLISHED-TTL:PT1H
BEGIN:VTIMEZONE
TZID:America/New_York
BEGIN:DAYLIGHT
TZOFFSETFROM:-0500
TZOFFSETTO:-0400
TZNAME:EDT
DTSTART:20240310T070000
END:DAYLIGHT
BEGIN:STANDARD
TZOFFSETFROM:-0400
TZOFFSETTO:-0500
TZNAME:EST
DTSTART:20241103T060000
END:STANDARD
BEGIN:DAYLIGHT
TZOFFSETFROM:-0500
TZOFFSETTO:-0400
TZNAME:EDT
DTSTART:20250309T070000
END:DAYLIGHT
BEGIN:STANDARD
TZOFFSETFROM:-0400
TZOFFSETTO:-0500
TZNAME:EST
DTSTART:20251102T060000
END:STANDARD
BEGIN:DAYLIGHT
TZOFFSETFROM:-0500
TZOFFSETTO:-0400
TZNAME:EDT
DTSTART:20260308T070000
END:DAYLIGHT
BEGIN:STANDARD
TZOFFSETFROM:-0400
TZOFFSETTO:-0500
TZNAME:EST
DTSTART:20261101T060000
END:STANDARD
END:VTIMEZONE
BEGIN:VEVENT
DTSTART;TZID=America/New_York:20250717T143000
DTEND;TZID=America/New_York:20250720T163000
DTSTAMP:20260425T123319
CREATED:20250620T134624Z
LAST-MODIFIED:20250712T164520Z
UID:2467-1752762600-1753029000@bettersaidthandone.org
SUMMARY:The NSN Conference
DESCRIPTION:I am thrilled that Better Said Than Done has a Women’s Storytelling Festival showcase at the National Storytelling Network Conference in Georgia this July. Our showcase features storytellers Carmen Agra Deedy\, Karin Amano\, Lona Bartlett\, Lyn Ford\, Bonnie Gardner\, Jennifer Munro\, and Jessica Robinson. It really is a phenomenal lineup and I am thrilled to be sharing stories\, and the stage\, with these women. \nThe NSN conference runs from July 17 – 20\, 2025. It will take place in-person at Kennesaw State University\, as well as many of the events being available to watch online\, including our women’s showcase. \nYou can find the complete conference schedule as well as details on how to register to attend in-person or purchase a virtual ticket here.
URL:https://bettersaidthandone.org/event/the-nsn-conference/
CATEGORIES:Storytelling Show,Women's Storytelling Festival
ATTACH;FMTTYPE=image/jpeg:https://bettersaidthandone.org/wp-content/uploads/2025/06/07_NSN_Cover.jpg
END:VEVENT
END:VCALENDAR