BEGIN:VCALENDAR
VERSION:2.0
PRODID:-//Better Said Than Done - ECPv6.15.20//NONSGML v1.0//EN
CALSCALE:GREGORIAN
METHOD:PUBLISH
X-WR-CALNAME:Better Said Than Done
X-ORIGINAL-URL:https://bettersaidthandone.org
X-WR-CALDESC:Events for Better Said Than Done
REFRESH-INTERVAL;VALUE=DURATION:PT1H
X-Robots-Tag:noindex
X-PUBLISHED-TTL:PT1H
BEGIN:VTIMEZONE
TZID:America/New_York
BEGIN:DAYLIGHT
TZOFFSETFROM:-0500
TZOFFSETTO:-0400
TZNAME:EDT
DTSTART:20240310T070000
END:DAYLIGHT
BEGIN:STANDARD
TZOFFSETFROM:-0400
TZOFFSETTO:-0500
TZNAME:EST
DTSTART:20241103T060000
END:STANDARD
BEGIN:DAYLIGHT
TZOFFSETFROM:-0500
TZOFFSETTO:-0400
TZNAME:EDT
DTSTART:20250309T070000
END:DAYLIGHT
BEGIN:STANDARD
TZOFFSETFROM:-0400
TZOFFSETTO:-0500
TZNAME:EST
DTSTART:20251102T060000
END:STANDARD
BEGIN:DAYLIGHT
TZOFFSETFROM:-0500
TZOFFSETTO:-0400
TZNAME:EDT
DTSTART:20260308T070000
END:DAYLIGHT
BEGIN:STANDARD
TZOFFSETFROM:-0400
TZOFFSETTO:-0500
TZNAME:EST
DTSTART:20261101T060000
END:STANDARD
END:VTIMEZONE
BEGIN:VEVENT
DTSTART;TZID=America/New_York:20251209T190000
DTEND;TZID=America/New_York:20251209T213000
DTSTAMP:20260424T102152
CREATED:20251008T214239Z
LAST-MODIFIED:20251205T140638Z
UID:19033-1765306800-1765315800@bettersaidthandone.org
SUMMARY:2025 Joyful Stories Show
DESCRIPTION:The year is almost over and we need some joy. The recording of Joy to the World is now available for purchase. With emcee Jessica Robinson and storytellers Alton Chung\, Jane Dorfman\, Lyn Ford\, Claire Hennessy\, Eric Johnson\, Anne Rutherford\, Ria Spencer\, Lisa Trank\, and Carlos Velazquez! With our Year-in-Review Video\, and a time for toasting! \nProceeds split between storytellers. \nOnline registration for this event is closed \nEvery person who purchases a ticket will receive the 2025 Better Said Than Done Recipe Collection\, with recipes from all the night’s storytellers and our storytelling community. We’ll send the Recipe Collection at least a few days before the show in case you want to make a special treat to eat or drink while you watch. \nYou should receive the login information shortly after registering. Check your junk folder if you do NOT see it. Try to login a few minutes before show time so you don’t miss a moment.\n\n\nWe keep ticket sales open through December 10 because the show is recorded and all ticket holders will receive a link to watch the recorded show about 24 hours after the live-on-Zoom show concludes\, through the end of January 2026.\n\n\nContact us at stories (at) bettersaidthandone (dot) org if you have questions.\n\nPLEASE NOTE: We cannot respond to emails during the show.PLEASE double check you have the login prior to when the show is starting!\n\nAs people can watch the recording for up to one month after\, ticket sales close the Sunday after.Your receipt reflects the date ticket sales close. The link to watch the show has the date and time of the show on it.Better Said Than Done is on the East Coast. All our event times are listed in Eastern Time Zone.\n\n 
URL:https://bettersaidthandone.org/event/2025-joyful-stories-show/
CATEGORIES:Storytelling Show
ATTACH;FMTTYPE=image/jpeg:https://bettersaidthandone.org/wp-content/uploads/2025/10/12_04_25_IGMovie.jpg
END:VEVENT
END:VCALENDAR