BEGIN:VCALENDAR
VERSION:2.0
PRODID:-//Better Said Than Done - ECPv6.15.20//NONSGML v1.0//EN
CALSCALE:GREGORIAN
METHOD:PUBLISH
X-WR-CALNAME:Better Said Than Done
X-ORIGINAL-URL:https://bettersaidthandone.org
X-WR-CALDESC:Events for Better Said Than Done
REFRESH-INTERVAL;VALUE=DURATION:PT1H
X-Robots-Tag:noindex
X-PUBLISHED-TTL:PT1H
BEGIN:VTIMEZONE
TZID:America/New_York
BEGIN:DAYLIGHT
TZOFFSETFROM:-0500
TZOFFSETTO:-0400
TZNAME:EDT
DTSTART:20240310T070000
END:DAYLIGHT
BEGIN:STANDARD
TZOFFSETFROM:-0400
TZOFFSETTO:-0500
TZNAME:EST
DTSTART:20241103T060000
END:STANDARD
BEGIN:DAYLIGHT
TZOFFSETFROM:-0500
TZOFFSETTO:-0400
TZNAME:EDT
DTSTART:20250309T070000
END:DAYLIGHT
BEGIN:STANDARD
TZOFFSETFROM:-0400
TZOFFSETTO:-0500
TZNAME:EST
DTSTART:20251102T060000
END:STANDARD
BEGIN:DAYLIGHT
TZOFFSETFROM:-0500
TZOFFSETTO:-0400
TZNAME:EDT
DTSTART:20260308T070000
END:DAYLIGHT
BEGIN:STANDARD
TZOFFSETFROM:-0400
TZOFFSETTO:-0500
TZNAME:EST
DTSTART:20261101T060000
END:STANDARD
END:VTIMEZONE
BEGIN:VEVENT
DTSTART;TZID=America/New_York:20250412T140000
DTEND;TZID=America/New_York:20250412T153000
DTSTAMP:20260424T222552
CREATED:20250318T140931Z
LAST-MODIFIED:20250328T141100Z
UID:2128-1744466400-1744471800@bettersaidthandone.org
SUMMARY:Workshop for the NSN Pro Sig
DESCRIPTION:In this National Storytelling Network PRO-SIG led workshop\, Carol Moore and Jessica Robinson will discuss the media part of social media. This is a follow-up to the first Social Media workshop by Carol Moore and Jessica Robinson last Fall. It will focus on the MEDIA aspects of social media promotions. \nSaturday\, April 12\, 2025 \n1-2:30 pm CDT / 2:00pm – 3:30pm Eastern \n$10 (free for PRO members) \nDetails and Registration Here
URL:https://bettersaidthandone.org/event/workshop-for-the-nsn-pro-sig/
CATEGORIES:Workshops
ATTACH;FMTTYPE=image/jpeg:https://bettersaidthandone.org/wp-content/uploads/2025/03/04_NSN_Pro_Sig.jpg
END:VEVENT
END:VCALENDAR