BEGIN:VCALENDAR
VERSION:2.0
PRODID:-//Better Said Than Done - ECPv6.15.20//NONSGML v1.0//EN
CALSCALE:GREGORIAN
METHOD:PUBLISH
X-WR-CALNAME:Better Said Than Done
X-ORIGINAL-URL:https://bettersaidthandone.org
X-WR-CALDESC:Events for Better Said Than Done
REFRESH-INTERVAL;VALUE=DURATION:PT1H
X-Robots-Tag:noindex
X-PUBLISHED-TTL:PT1H
BEGIN:VTIMEZONE
TZID:America/New_York
BEGIN:DAYLIGHT
TZOFFSETFROM:-0500
TZOFFSETTO:-0400
TZNAME:EDT
DTSTART:20240310T070000
END:DAYLIGHT
BEGIN:STANDARD
TZOFFSETFROM:-0400
TZOFFSETTO:-0500
TZNAME:EST
DTSTART:20241103T060000
END:STANDARD
BEGIN:DAYLIGHT
TZOFFSETFROM:-0500
TZOFFSETTO:-0400
TZNAME:EDT
DTSTART:20250309T070000
END:DAYLIGHT
BEGIN:STANDARD
TZOFFSETFROM:-0400
TZOFFSETTO:-0500
TZNAME:EST
DTSTART:20251102T060000
END:STANDARD
BEGIN:DAYLIGHT
TZOFFSETFROM:-0500
TZOFFSETTO:-0400
TZNAME:EDT
DTSTART:20260308T070000
END:DAYLIGHT
BEGIN:STANDARD
TZOFFSETFROM:-0400
TZOFFSETTO:-0500
TZNAME:EST
DTSTART:20261101T060000
END:STANDARD
END:VTIMEZONE
BEGIN:VEVENT
DTSTART;TZID=America/New_York:20250111T200000
DTEND;TZID=America/New_York:20250111T213000
DTSTAMP:20260425T121114
CREATED:20241130T145900Z
LAST-MODIFIED:20250110T162246Z
UID:816-1736625600-1736631000@bettersaidthandone.org
SUMMARY:Fight Club Stories
DESCRIPTION:First rule of storytelling? You DO talk about it. \nThe recording of Fight Club Stories is now available for purchase. You will have access to watch the recorded show through February 5th. \nBetter Said Than Done storytelling presents “Fight Club: Stories about battles\, arguments\, and fighting the fight.” With emcee Regina Stoops and storytellers Silvana Clark\, Sara deBeer\, Janice Del Negro\, Lyn Ford\, and Jackson Gillman. \nOnline registration for this event is closed \nProceeds split between the storytellers. \nThis show will be recorded. Ticket holders will receive a zoom link to watch the show live. The recording will be sent to ticket holders no later than 2 days after the show\, and they will have access to watch the recording for one month. \nYou should receive an email with the Zoom link moments after registering. If you do not see the email\, check your junk folder. If you still do not see it\, please contact stories@bettersaidthandone.org BEFORE the show starts.
URL:https://bettersaidthandone.org/event/fight-club-stories/
CATEGORIES:Storytelling Show,Virtual Event
ATTACH;FMTTYPE=image/jpeg:https://bettersaidthandone.org/wp-content/uploads/2024/11/1_9_24_IG-Movie.jpg
END:VEVENT
END:VCALENDAR