BEGIN:VCALENDAR
VERSION:2.0
PRODID:-//Better Said Than Done - ECPv6.15.20//NONSGML v1.0//EN
CALSCALE:GREGORIAN
METHOD:PUBLISH
X-WR-CALNAME:Better Said Than Done
X-ORIGINAL-URL:https://bettersaidthandone.org
X-WR-CALDESC:Events for Better Said Than Done
REFRESH-INTERVAL;VALUE=DURATION:PT1H
X-Robots-Tag:noindex
X-PUBLISHED-TTL:PT1H
BEGIN:VTIMEZONE
TZID:America/New_York
BEGIN:DAYLIGHT
TZOFFSETFROM:-0500
TZOFFSETTO:-0400
TZNAME:EDT
DTSTART:20240310T070000
END:DAYLIGHT
BEGIN:STANDARD
TZOFFSETFROM:-0400
TZOFFSETTO:-0500
TZNAME:EST
DTSTART:20241103T060000
END:STANDARD
BEGIN:DAYLIGHT
TZOFFSETFROM:-0500
TZOFFSETTO:-0400
TZNAME:EDT
DTSTART:20250309T070000
END:DAYLIGHT
BEGIN:STANDARD
TZOFFSETFROM:-0400
TZOFFSETTO:-0500
TZNAME:EST
DTSTART:20251102T060000
END:STANDARD
BEGIN:DAYLIGHT
TZOFFSETFROM:-0500
TZOFFSETTO:-0400
TZNAME:EDT
DTSTART:20260308T070000
END:DAYLIGHT
BEGIN:STANDARD
TZOFFSETFROM:-0400
TZOFFSETTO:-0500
TZNAME:EST
DTSTART:20261101T060000
END:STANDARD
END:VTIMEZONE
BEGIN:VEVENT
DTSTART;TZID=America/New_York:20250331T190000
DTEND;TZID=America/New_York:20250331T203000
DTSTAMP:20260425T085629
CREATED:20241204T193939Z
LAST-MODIFIED:20250331T174012Z
UID:875-1743447600-1743453000@bettersaidthandone.org
SUMMARY:Mini Class on Personal Storytelling
DESCRIPTION:This 90 minute workshop will give some insights into what makes a great personal story\, how to choose character traits and structures that support a short\, personal story\, and what to think about in the process of developing a new personal story. \nDuring the 90 minutes\, participants will be given a writing prompt. A few will have time to share their stories and receive feedback. \nOnline registration for this event is closed \nBring ideas for a 5-7 minute story to work on in this 90 minute class. Learn about character development\, story structure\, and where to begin and how to end\, and then spend some time writing. A few participants will be able to share their stories with the class. \nThis workshop will be recorded and registrants will have access to the recording for one month after. \nThis storytelling workshop will be led by Jessica Piscitelli Robinson. \nJessica Robinson is the Founding Executive Director of Better Said Than Done. In addition to producing storytelling shows since 2011\, Jessica has performed at Exchange Place at the International Storytelling Festival\, on WGBH’s “Stories from the Stage\,” and for Artists Standing Strong Together\, Six Feet Apart Productions\, Mostly True Things\, and 2 National Storytelling Network (NSN) Conferences. Jessica was featured at the Stone Soup\, the Washington Folk\, the Alleghany Highlands\, the Florida\, and the Hampton Storytelling Festivals\, and has told lies and emceed at the Good Liars Club Festival 3 years in a row. Jessica is a 2023 ORACLE Award recipient from the NSN. \nJessica is the author of the novel Caged (under pen name JP Robinson)\, contributing author to the anthology Roar: True Tales of Women Warriors\, and her latest book Stages: My Life in Stories\, is a memoir in stories. \nJessica has been teaching storytelling to individuals and organizations since 2011. In addition to community centers\, libraries\, and adult education centers\, Jessica has taught storytelling for The Brookings Institution\, The George Washington University School of Business\, George Mason University’s Athletic Department\, and The World Bank\, to name a few. Jessica’s E-Guide to Personal Storytelling is available through Story Crossroads.
URL:https://bettersaidthandone.org/event/mini-class-on-personal-storytelling/
CATEGORIES:Virtual Event,Workshops
ATTACH;FMTTYPE=image/jpeg:https://bettersaidthandone.org/wp-content/uploads/2024/12/03_Jessica_Workshop_IG_2025-copy.jpg
END:VEVENT
END:VCALENDAR