BEGIN:VCALENDAR
VERSION:2.0
PRODID:-//Better Said Than Done - ECPv6.15.20//NONSGML v1.0//EN
CALSCALE:GREGORIAN
METHOD:PUBLISH
X-WR-CALNAME:Better Said Than Done
X-ORIGINAL-URL:https://bettersaidthandone.org
X-WR-CALDESC:Events for Better Said Than Done
REFRESH-INTERVAL;VALUE=DURATION:PT1H
X-Robots-Tag:noindex
X-PUBLISHED-TTL:PT1H
BEGIN:VTIMEZONE
TZID:UTC
BEGIN:STANDARD
TZOFFSETFROM:+0000
TZOFFSETTO:+0000
TZNAME:UTC
DTSTART:20230101T000000
END:STANDARD
END:VTIMEZONE
BEGIN:VTIMEZONE
TZID:America/New_York
BEGIN:DAYLIGHT
TZOFFSETFROM:-0500
TZOFFSETTO:-0400
TZNAME:EDT
DTSTART:20230312T070000
END:DAYLIGHT
BEGIN:STANDARD
TZOFFSETFROM:-0400
TZOFFSETTO:-0500
TZNAME:EST
DTSTART:20231105T060000
END:STANDARD
BEGIN:DAYLIGHT
TZOFFSETFROM:-0500
TZOFFSETTO:-0400
TZNAME:EDT
DTSTART:20240310T070000
END:DAYLIGHT
BEGIN:STANDARD
TZOFFSETFROM:-0400
TZOFFSETTO:-0500
TZNAME:EST
DTSTART:20241103T060000
END:STANDARD
BEGIN:DAYLIGHT
TZOFFSETFROM:-0500
TZOFFSETTO:-0400
TZNAME:EDT
DTSTART:20250309T070000
END:DAYLIGHT
BEGIN:STANDARD
TZOFFSETFROM:-0400
TZOFFSETTO:-0500
TZNAME:EST
DTSTART:20251102T060000
END:STANDARD
END:VTIMEZONE
BEGIN:VEVENT
DTSTART;TZID=UTC:20241204T200000
DTEND;TZID=UTC:20241204T210000
DTSTAMP:20260425T120817
CREATED:20241002T014200Z
LAST-MODIFIED:20241113T191348Z
UID:513-1733342400-1733346000@bettersaidthandone.org
SUMMARY:Storyteller Book Party
DESCRIPTION:On December 4\, Claire Hennessy\, of Six Feet Apart Productions fame\, will be leading a not so serious discussion of books with authors Bil Lepp\, Jessica Robinson\, and Donna Washington. \nThe storyteller-authors will discuss their latest books\, writing\, storytelling\, and possibly stray off the path into a few tall tales. They are\, after all\, storytellers. \nThis event is free\, but you have to register to attend.\nClick Here to Register\nWe will be giving out some signed copies of books\, but you are welcome to stock up in advance\, study up\, and come prepared to ask questions! Below are links where you can find all 3 authors’ books! \nBil Lepp’s latest book is called Nothing So Pretentious as the Collected Works of Bil Lepp.\nRead About and Order Here\nMore about the not so pretentious Bil Lepp here. \nJessica Robinson’s new memoir-in-stories is called Stages: My Life in Stories.\nRead About and Order Here\nMore about Jessica Piscitelli Robinson here.\nDonna Washington’s latest book is called Prak Fills the House.\nRead About and Order Here\nMore books and CDs from Donna Washington here.\n \nAnd because we were legally not allowed to leave her out\, read all about the Bonkers Brit herself\, Claire Hennessy\, here. \nWe’ll see you online on December 4th at 8:00pm Eastern. Don’t be tardy for the party. (And yes\, that is a literary reference. I think I read it in Ulysses.)
URL:https://bettersaidthandone.org/event/stories-and-books/
CATEGORIES:Storytelling Show,Virtual Event
ATTACH;FMTTYPE=image/jpeg:https://bettersaidthandone.org/wp-content/uploads/2024/10/Virtual_Author_Event_12_4_24.jpg
END:VEVENT
BEGIN:VEVENT
DTSTART;TZID=America/New_York:20241216T220000
DTEND;TZID=America/New_York:20241216T233000
DTSTAMP:20260425T120817
CREATED:20241118T221152Z
LAST-MODIFIED:20241213T151528Z
UID:766-1734386400-1734391800@bettersaidthandone.org
SUMMARY:Comfort and Joy
DESCRIPTION:The recording of Better Said Than Done’s End of Year Celebration and Storytelling Show is now available. Grab your snuggie\, a warm cuppa\, and enjoy cozy stories from storytellers Willy Claflin\, Tobey Ishii Anderson\, Jim Kissane\, Joan Leotta\, Roopa Mohan\, Andy Russell\, Anne Shimojima\, and Liz Weir. With our Year-in-Review Video\, and a toast from Executive Director Jessica Robinson\, the whole show will be kept cool and collected by our emcee Chetter Galloway. \nEvery person who purchases a ticket will receive a link to watch the show on Youtube through January 24th\, 2025\, AND the 2024 Better Said Than Done Recipe Collection\, with recipes from all the night’s storytellers and our storytelling community. \nOnline registration for this event is closed \n\n\n\nYou should receive the Zoom login information shortly after registering. Check the email you use on Paypal and check your junk folder if you do NOT see it. Try to login a few minutes before show time to make sure you can gain entry.\nContact us at stories (at) bettersaidthandone (dot) org if you still do not see the email.\nPLEASE NOTE: We cannot respond to emails during the show.PLEASE double check you have the login prior to when the show is starting!\nAs people can watch the recording for up to one month after\, ticket sales close the Sunday after.Your receipt reflects the date ticket sales close. The link to watch the show has the date and time of the show on it.Better Said Than Done is on the East Coast. All our event times are listed in Eastern Time Zone.\nHave questions? CONTACT US HERE.
URL:https://bettersaidthandone.org/event/comfort-and-joy/
CATEGORIES:Family Friendly Storytelling,Storytelling Show,Virtual Event
ATTACH;FMTTYPE=image/jpeg:https://bettersaidthandone.org/wp-content/uploads/2024/11/12_12_24_IGvMovie.jpg
END:VEVENT
END:VCALENDAR