BEGIN:VCALENDAR
VERSION:2.0
PRODID:-//Better Said Than Done - ECPv6.15.20//NONSGML v1.0//EN
CALSCALE:GREGORIAN
METHOD:PUBLISH
X-WR-CALNAME:Better Said Than Done
X-ORIGINAL-URL:https://bettersaidthandone.org
X-WR-CALDESC:Events for Better Said Than Done
REFRESH-INTERVAL;VALUE=DURATION:PT1H
X-Robots-Tag:noindex
X-PUBLISHED-TTL:PT1H
BEGIN:VTIMEZONE
TZID:America/New_York
BEGIN:DAYLIGHT
TZOFFSETFROM:-0500
TZOFFSETTO:-0400
TZNAME:EDT
DTSTART:20250309T070000
END:DAYLIGHT
BEGIN:STANDARD
TZOFFSETFROM:-0400
TZOFFSETTO:-0500
TZNAME:EST
DTSTART:20251102T060000
END:STANDARD
BEGIN:DAYLIGHT
TZOFFSETFROM:-0500
TZOFFSETTO:-0400
TZNAME:EDT
DTSTART:20260308T070000
END:DAYLIGHT
BEGIN:STANDARD
TZOFFSETFROM:-0400
TZOFFSETTO:-0500
TZNAME:EST
DTSTART:20261101T060000
END:STANDARD
BEGIN:DAYLIGHT
TZOFFSETFROM:-0500
TZOFFSETTO:-0400
TZNAME:EDT
DTSTART:20270314T070000
END:DAYLIGHT
BEGIN:STANDARD
TZOFFSETFROM:-0400
TZOFFSETTO:-0500
TZNAME:EST
DTSTART:20271107T060000
END:STANDARD
END:VTIMEZONE
BEGIN:VEVENT
DTSTART;TZID=America/New_York:20260425T180000
DTEND;TZID=America/New_York:20260425T200000
DTSTAMP:20260423T141114
CREATED:20260309T152403Z
LAST-MODIFIED:20260422T002147Z
UID:19864-1777140000-1777147200@bettersaidthandone.org
SUMMARY:It's Raining Men
DESCRIPTION:On April 25\, join us at Clare and Don’s Beach Shack for “It’s Raining Men: stories about guys and weather\,” with emcee Ravi Pimplaskar and storytellers Len Kruger\, Joe Morice\, Sarah Snyder\, Zette St. Charles\, Carlos Velazquez\, and Chris Wade. \nClare and Don’s Beach Shack is located at 130 N Washington St\, Falls Church\, VA 22046. A full dinner and bar menu is available for purchase before and during the show. There is plenty of free parking nearby\, including a parking garage behind Clare and Don’s. \nIf you are currently underemployed or just stressing the price\, please take advantage of the 2 tickets for $20.\n\n			\n				\n				\n				\n				\n				\n					\n						\n						\n					\n					\n					Register\n						\n						\n						Single EntryAdd oneRemove one$15.00 14/36 remainingDiscount Two for TwentyAdd oneRemove one$20.00 0/4 remaining\n						\n						Add to Cart\n						\n						 \n					\n				\n			 \nYou do NOT need a Paypal or Stripe account to purchase a ticket. After you add ticket to cart\, you get taken to a page to confirm your purchase. You can choose between Paypal or Stripe and no matter which processor (gateway) you choose\, you do NOT need an account with them. You can pay by credit card or other methods via your chosen processing gateway. \nYou do not need to print your receipt. Once you register\, your name will be on the list at the door. Please note\, there is no reserve seating\, so if you have a large party\, please arrive early. \nNo refunds will be issued for cancellations received after registration. In extenuating circumstances\, to be determined solely by Better Said Than Done\, Inc.\, a voucher for attendance at another Better Said Than Done workshop of equal or lesser value may be offered. Additional fees may be required. Substitutions for persons attending can be made in advance without charge. In the event of circumstances beyond its control\, Better Said Than Done reserves the right to amend or cancel any event. Better Said Than Done is not liable for any expense incurred by participants as a result of cancellation.
URL:https://bettersaidthandone.org/event/its-raining-men/
LOCATION:Clare and Don’s Beach Shack\, 130 North Washington Street\, Falls Church\, VA\, 22046\, United States
CATEGORIES:Storytelling Show
ATTACH;FMTTYPE=image/jpeg:https://bettersaidthandone.org/wp-content/uploads/2026/03/04_25_IGvTellers-1.jpg
END:VEVENT
BEGIN:VEVENT
DTSTART;TZID=America/New_York:20260507T200000
DTEND;TZID=America/New_York:20260507T213000
DTSTAMP:20260423T141115
CREATED:20260326T185343Z
LAST-MODIFIED:20260404T193535Z
UID:20135-1778184000-1778189400@bettersaidthandone.org
SUMMARY:The Fair Folk
DESCRIPTION:Join Better Said Than Done on Zoom on May 7\, 2026 at 8:00pm Eastern for “The Fair Folk: faerie tales\,” with emcee Sam Payne and storytellers Eva Abram\, Sara Armstrong\, Lona Bartlett\, Naomi Faw\, and Chetter Galloway. \n$15 Suggested/$5 MinimumAll Proceeds Split Between Producer and Storytellers\n\n			\n				\n				\n				\n				\n				\n					\n						\n						\n					\n					\n					Register\n						\n						\n						Suggested ContributionAdd oneRemove one$15.00 147/150 remainingHousehold ContributionAdd oneRemove one$26.00 150/150 remainingGenerous ContributionAdd oneRemove one$37.00 150/150 remainingMinimum ContributionAdd oneRemove one$4.00 150/150 remainingTip JarAdd oneRemove one$8.00 150/150 remaining\n						\n						Add to Cart\n						\n						 \n					\n				\n			\n\nYou do NOT need a Paypal or Stripe account to purchase a ticket. Add a ticket to your cart\, go to the checkout screen\, select which credit card processor you’d like to use when checking out (Stripe or Paypal) and then you can pay by credit card or other methods via your chosen processing gateway (Stripe or Paypal). \nYou should receive the link to login shortly after registering. Check your junk folder if you do NOT see it. \nContact us at  stories (at) bettersaidthandone (dot) com if you still do not see the email. \nPLEASE NOTE: We cannot respond to emails during the show. \nPLEASE double check you have the login prior to when the show is starting! \nAs people can watch the recording for up to one month after\, ticket sales close the Sunday after.\nYour receipt reflects the date ticket sales close. The link to watch the show has the date and time of the show on it.
URL:https://bettersaidthandone.org/event/the-fair-folk/
CATEGORIES:Storytelling Show,Virtual Event
ATTACH;FMTTYPE=image/jpeg:https://bettersaidthandone.org/wp-content/uploads/2026/03/05_07_IG2.jpg
END:VEVENT
BEGIN:VEVENT
DTSTART;TZID=America/New_York:20260611T200000
DTEND;TZID=America/New_York:20260611T210000
DTSTAMP:20260423T141115
CREATED:20260419T173744Z
LAST-MODIFIED:20260419T173753Z
UID:20239-1781208000-1781211600@bettersaidthandone.org
SUMMARY:Love and Laughter Stories
DESCRIPTION:Join Better Said Than Done on Zoom on June 11\, 2026 at 8:00pm for Stories of Love and Laughter. \n  \nDetails and Tickets soon.
URL:https://bettersaidthandone.org/event/love-and-laughter-stories/
CATEGORIES:Storytelling Show
ATTACH;FMTTYPE=image/jpeg:https://bettersaidthandone.org/wp-content/uploads/2024/09/Hold-for-Show-copy.jpg
END:VEVENT
BEGIN:VEVENT
DTSTART;TZID=America/New_York:20260627T190000
DTEND;TZID=America/New_York:20260627T210000
DTSTAMP:20260423T141115
CREATED:20260419T173538Z
LAST-MODIFIED:20260419T173538Z
UID:20236-1782586800-1782594000@bettersaidthandone.org
SUMMARY:Rainbows and Unicorns - Stories of Love and Hope
DESCRIPTION:Join us at Clare and Don’s Beach Shack on June 27th for Rainbows and Unicorns: Stories of Love and Hope. \nDetails and tickets coming soon.
URL:https://bettersaidthandone.org/event/rainbows-and-unicorns-stories-of-love-and-hope/
CATEGORIES:Storytelling Show
ATTACH;FMTTYPE=image/png:https://bettersaidthandone.org/wp-content/uploads/2026/04/Firefly_Rainbows-and-unicorns-466835_36be30d2.png
END:VEVENT
END:VCALENDAR