BEGIN:VCALENDAR
VERSION:2.0
PRODID:-//Better Said Than Done - ECPv6.15.20//NONSGML v1.0//EN
CALSCALE:GREGORIAN
METHOD:PUBLISH
X-ORIGINAL-URL:https://bettersaidthandone.org
X-WR-CALDESC:Events for Better Said Than Done
REFRESH-INTERVAL;VALUE=DURATION:PT1H
X-Robots-Tag:noindex
X-PUBLISHED-TTL:PT1H
BEGIN:VTIMEZONE
TZID:America/New_York
BEGIN:DAYLIGHT
TZOFFSETFROM:-0500
TZOFFSETTO:-0400
TZNAME:EDT
DTSTART:20250309T070000
END:DAYLIGHT
BEGIN:STANDARD
TZOFFSETFROM:-0400
TZOFFSETTO:-0500
TZNAME:EST
DTSTART:20251102T060000
END:STANDARD
BEGIN:DAYLIGHT
TZOFFSETFROM:-0500
TZOFFSETTO:-0400
TZNAME:EDT
DTSTART:20260308T070000
END:DAYLIGHT
BEGIN:STANDARD
TZOFFSETFROM:-0400
TZOFFSETTO:-0500
TZNAME:EST
DTSTART:20261101T060000
END:STANDARD
BEGIN:DAYLIGHT
TZOFFSETFROM:-0500
TZOFFSETTO:-0400
TZNAME:EDT
DTSTART:20270314T070000
END:DAYLIGHT
BEGIN:STANDARD
TZOFFSETFROM:-0400
TZOFFSETTO:-0500
TZNAME:EST
DTSTART:20271107T060000
END:STANDARD
END:VTIMEZONE
BEGIN:VEVENT
DTSTART;TZID=America/New_York:20260215T200000
DTEND;TZID=America/New_York:20260215T213000
DTSTAMP:20260423T202516
CREATED:20260115T160750Z
LAST-MODIFIED:20260213T142824Z
UID:19486-1771185600-1771191000@bettersaidthandone.org
SUMMARY:Outer Limits Stories
DESCRIPTION:The Recording of The Outer Limits: Stories That Stretch\, with emcee Alton Chung and storytellers Laura Deal\, Bowen Lee\, Liz Nichols\, Ingrid Nixon\, and Anne Shimojima is available for purchase. \n$15 Suggested/$5 MinimumAll Proceeds Split Between Producer and Storytellers\n\nOnline registration for this event is closed \n\nYou do NOT need a Paypal or Stripe account to purchase a ticket. Add a ticket to your cart\, go to the checkout screen\, select which credit card processor you’d like to use when checking out (Stripe or Paypal) and then you can pay by credit card or other methods via your chosen processing gateway (Stripe or Paypal). \nYou should receive the link to login shortly after registering. Check your junk folder if you do NOT see it. \nContact us at  stories (at) bettersaidthandone (dot) com if you still do not see the email. \nPLEASE NOTE: We cannot respond to emails during the show. \nPLEASE double check you have the login prior to when the show is starting! \nAs people can watch the recording for up to one month after\, ticket sales close the Sunday after.\nYour receipt reflects the date ticket sales close. The link to watch the show has the date and time of the show on it.
URL:https://bettersaidthandone.org/event/outer-limits-stories/
CATEGORIES:Storytelling Show,Virtual Event
ATTACH;FMTTYPE=image/jpeg:https://bettersaidthandone.org/wp-content/uploads/2026/01/02_12_IGvMovie-copy.jpg
END:VEVENT
END:VCALENDAR