BEGIN:VCALENDAR
VERSION:2.0
PRODID:-//Better Said Than Done - ECPv6.15.20//NONSGML v1.0//EN
CALSCALE:GREGORIAN
METHOD:PUBLISH
X-ORIGINAL-URL:https://bettersaidthandone.org
X-WR-CALDESC:Events for Better Said Than Done
REFRESH-INTERVAL;VALUE=DURATION:PT1H
X-Robots-Tag:noindex
X-PUBLISHED-TTL:PT1H
BEGIN:VTIMEZONE
TZID:America/New_York
BEGIN:DAYLIGHT
TZOFFSETFROM:-0500
TZOFFSETTO:-0400
TZNAME:EDT
DTSTART:20250309T070000
END:DAYLIGHT
BEGIN:STANDARD
TZOFFSETFROM:-0400
TZOFFSETTO:-0500
TZNAME:EST
DTSTART:20251102T060000
END:STANDARD
BEGIN:DAYLIGHT
TZOFFSETFROM:-0500
TZOFFSETTO:-0400
TZNAME:EDT
DTSTART:20260308T070000
END:DAYLIGHT
BEGIN:STANDARD
TZOFFSETFROM:-0400
TZOFFSETTO:-0500
TZNAME:EST
DTSTART:20261101T060000
END:STANDARD
BEGIN:DAYLIGHT
TZOFFSETFROM:-0500
TZOFFSETTO:-0400
TZNAME:EDT
DTSTART:20270314T070000
END:DAYLIGHT
BEGIN:STANDARD
TZOFFSETFROM:-0400
TZOFFSETTO:-0500
TZNAME:EST
DTSTART:20271107T060000
END:STANDARD
END:VTIMEZONE
BEGIN:VEVENT
DTSTART;TZID=America/New_York:20260319T190000
DTEND;TZID=America/New_York:20260322T170000
DTSTAMP:20260423T150801
CREATED:20251114T184904Z
LAST-MODIFIED:20260223T140652Z
UID:19222-1773946800-1774198800@bettersaidthandone.org
SUMMARY:The 2026 Women's Storytelling Festival
DESCRIPTION:The 2026 Women’s Storytelling Festival will take place March 19 – 22\, 2026\, starting with a virtual only showcase on the 19th and continuing in-person at the Sherwood Community Center\, 3740 Blenheim Blvd\, Fairfax\, VA 22030 through March 22nd. \nThe Women’s Storytelling Festival Main Page\nThe WSF Tickets Page\nThe Women’s Storytelling Festival\, produced annually in March by Better Said Than Done\, is a festival celebrating all women and gender nonconforming spoken-word performing artists. The festival debuted in March 2020 in Fairfax City\, VA. The stories shared at the first festival were no different than what you’d hear at any festival. There were folk tales\, historical tales\, personal stories\, myths\, legends\, and lying. The one difference was that all the voices were female. And that one difference was key. \nThis is a storytelling festival\, like any other. However\, when women feel safe and heard\, like we are in a space where our stories are given equal attention\, the performances\, and the stories themselves\, are different. There is a hum of feminine power that runs through the festival even when the stories are about Jack\, Coyote\, Anansi\, or that thing that happened that one time at work. We are are human. We are storytellers. We are women. Hear us tell. \nThe Women’s Storytelling Festival is intended for a mature audience. \nThe 2026 Women’s Storytelling Festival storytellers are:\nKarin Amano\, Lona Bartlett\, Meghna Bhat\, Lyn Ford\, Neshama Franklin\, Bonnie Gardner\, Natalie Jones\, Jenn Kamara\, Nina Lesiga\, Jezrie Marcano-Courtney\, Jamie McElhatton\, Jennifer Munro\, Denise Page\, Liz Pardue\, Elisa Pearmain\, Kristin Pedemonti\, Regina Stoops\, Liz Weir\, Megan Wells\, and Hope Wilder. \nEmcees for the festival include: Elizabeth Ellis\, Bree Fram\, Sherry Grimes\, Carol Moore\, Miriam Nadel\, Mayor Catherine Reade\, Delegate Holly Seibold and 1A host Jenn White. \nThe festival is available to watch online or in-person. When you purchase a ticket on our website\, whether for attending in-person or virtually\, you will receive links to watch all of the videos. So an in-person festival pass also grants the ticket holder links to watch online\, in case they miss any part of the live shows. The virtual only tickets do not grant in-person attendance.
URL:https://bettersaidthandone.org/event/the-2026-womens-storytelling-festival/
LOCATION:Sherwood Community Center\, 3740 Blenheim Blvd.\, Fairfax\, VA\, 22030
CATEGORIES:Women's Storytelling Festival
ATTACH;FMTTYPE=image/jpeg:https://bettersaidthandone.org/wp-content/uploads/2026/02/2026-WSF-SqvAllv2.jpg
END:VEVENT
END:VCALENDAR